Package: RNAmodR Version: 1.24.0 Command: rm -rf RNAmodR.buildbin-libdir && mkdir RNAmodR.buildbin-libdir && /Users/biocbuild/BBS/utils/build-universal.sh RNAmodR_1.24.0.tar.gz /Library/Frameworks/R.framework/Resources/bin/R RNAmodR.buildbin-libdir StartedAt: 2025-11-04 02:00:01 -0500 (Tue, 04 Nov 2025) EndedAt: 2025-11-04 02:01:41 -0500 (Tue, 04 Nov 2025) EllapsedTime: 100.2 seconds RetCode: 0 Status: OK PackageFile: RNAmodR_1.24.0.tgz PackageFileSize: 2.962 MiB