Package: RNAmodR Version: 1.23.2 Command: /Library/Frameworks/R.framework/Resources/bin/R CMD INSTALL RNAmodR StartedAt: 2025-10-24 15:27:13 -0400 (Fri, 24 Oct 2025) EndedAt: 2025-10-24 15:27:42 -0400 (Fri, 24 Oct 2025) EllapsedTime: 29.2 seconds RetCode: 0 Status: OK