Package: RNAmodR.RiboMethSeq Version: 1.23.1 Command: /home/biocbuild/R/R/bin/R CMD INSTALL RNAmodR.RiboMethSeq StartedAt: 2025-10-23 21:14:17 -0000 (Thu, 23 Oct 2025) EndedAt: 2025-10-23 21:15:33 -0000 (Thu, 23 Oct 2025) EllapsedTime: 76.4 seconds RetCode: 0 Status: OK