Package: RNAmodR.RiboMethSeq Version: 1.23.1 Command: /home/biocbuild/R/R/bin/R CMD build --keep-empty-dirs --no-resave-data RNAmodR.RiboMethSeq StartedAt: 2025-10-21 02:33:54 -0000 (Tue, 21 Oct 2025) EndedAt: 2025-10-21 02:53:41 -0000 (Tue, 21 Oct 2025) EllapsedTime: 1187.1 seconds RetCode: 0 Status: OK PackageFile: RNAmodR.RiboMethSeq_1.23.1.tar.gz PackageFileSize: 535 KiB