Package: RNAmodR.RiboMethSeq Version: 1.23.1 Command: /Library/Frameworks/R.framework/Resources/bin/R CMD check --install=check:RNAmodR.RiboMethSeq.install-out.txt --library=/Library/Frameworks/R.framework/Resources/library --no-vignettes --timings RNAmodR.RiboMethSeq_1.23.1.tar.gz StartedAt: 2025-10-24 23:49:06 -0400 (Fri, 24 Oct 2025) EndedAt: 2025-10-24 23:57:07 -0400 (Fri, 24 Oct 2025) EllapsedTime: 481.4 seconds RetCode: 0 Status: OK CheckDir: RNAmodR.RiboMethSeq.Rcheck Warnings: 0