Package: RNAmodR.RiboMethSeq Version: 1.23.1 Command: /Library/Frameworks/R.framework/Resources/bin/R CMD build --keep-empty-dirs --no-resave-data RNAmodR.RiboMethSeq StartedAt: 2025-10-27 18:24:18 -0400 (Mon, 27 Oct 2025) EndedAt: 2025-10-27 18:26:33 -0400 (Mon, 27 Oct 2025) EllapsedTime: 135.0 seconds RetCode: 0 Status: OK PackageFile: RNAmodR.RiboMethSeq_1.23.1.tar.gz PackageFileSize: 638.8 KiB