Package: RNAmodR.RiboMethSeq Version: 1.23.1 Command: /Library/Frameworks/R.framework/Resources/bin/R CMD INSTALL RNAmodR.RiboMethSeq StartedAt: 2025-10-26 15:25:01 -0400 (Sun, 26 Oct 2025) EndedAt: 2025-10-26 15:25:24 -0400 (Sun, 26 Oct 2025) EllapsedTime: 23.7 seconds RetCode: 0 Status: OK