Package: RNAmodR.ML Version: 1.23.0 Command: /home/biocbuild/R/R/bin/R CMD INSTALL RNAmodR.ML StartedAt: 2025-10-23 21:14:20 -0000 (Thu, 23 Oct 2025) EndedAt: 2025-10-23 21:15:39 -0000 (Thu, 23 Oct 2025) EllapsedTime: 78.8 seconds RetCode: 0 Status: OK