Package: RNAmodR.ML Version: 1.23.0 Command: /home/biocbuild/R/R/bin/R CMD build --keep-empty-dirs --no-resave-data RNAmodR.ML StartedAt: 2025-10-21 02:33:32 -0000 (Tue, 21 Oct 2025) EndedAt: 2025-10-21 02:38:26 -0000 (Tue, 21 Oct 2025) EllapsedTime: 294.2 seconds RetCode: 0 Status: OK PackageFile: RNAmodR.ML_1.23.0.tar.gz PackageFileSize: 1.371 MiB