Package: RNAmodR.ML Version: 1.23.0 Command: /home/biocbuild/bbs-3.22-bioc/R/bin/R CMD build --keep-empty-dirs --no-resave-data --md5 RNAmodR.ML StartedAt: 2025-10-24 19:49:46 -0400 (Fri, 24 Oct 2025) EndedAt: 2025-10-24 19:52:53 -0400 (Fri, 24 Oct 2025) EllapsedTime: 187.1 seconds RetCode: 0 Status: OK PackageFile: RNAmodR.ML_1.23.0.tar.gz PackageFileSize: 1.655 MiB