Package: RNAmodR.ML Version: 1.23.0 Command: /Library/Frameworks/R.framework/Resources/bin/R CMD build --keep-empty-dirs --no-resave-data RNAmodR.ML StartedAt: 2025-10-27 17:31:39 -0400 (Mon, 27 Oct 2025) EndedAt: 2025-10-27 17:32:56 -0400 (Mon, 27 Oct 2025) EllapsedTime: 76.8 seconds RetCode: 0 Status: OK PackageFile: RNAmodR.ML_1.23.0.tar.gz PackageFileSize: 1.577 MiB