Package: RNAmodR.ML Version: 1.23.0 Command: rm -rf RNAmodR.ML.buildbin-libdir && mkdir RNAmodR.ML.buildbin-libdir && /Users/biocbuild/BBS/utils/build-universal.sh RNAmodR.ML_1.23.0.tar.gz /Library/Frameworks/R.framework/Resources/bin/R RNAmodR.ML.buildbin-libdir StartedAt: 2025-10-24 23:17:04 -0400 (Fri, 24 Oct 2025) EndedAt: 2025-10-24 23:17:31 -0400 (Fri, 24 Oct 2025) EllapsedTime: 27.5 seconds RetCode: 0 Status: OK PackageFile: RNAmodR.ML_1.23.0.tgz PackageFileSize: 1.999 MiB