Package: RNAmodR.AlkAnilineSeq Version: 1.23.1 Command: /home/biocbuild/bbs-3.22-bioc/R/bin/R CMD INSTALL RNAmodR.AlkAnilineSeq StartedAt: 2025-10-24 16:00:03 -0400 (Fri, 24 Oct 2025) EndedAt: 2025-10-24 16:01:01 -0400 (Fri, 24 Oct 2025) EllapsedTime: 58.2 seconds RetCode: 0 Status: OK