Package: RNAmodR.AlkAnilineSeq Version: 1.23.1 Command: /home/biocbuild/bbs-3.22-bioc/R/bin/R CMD check --install=check:RNAmodR.AlkAnilineSeq.install-out.txt --library=/home/biocbuild/bbs-3.22-bioc/R/site-library --timings RNAmodR.AlkAnilineSeq_1.23.1.tar.gz StartedAt: 2025-10-25 03:27:13 -0400 (Sat, 25 Oct 2025) EndedAt: 2025-10-25 03:36:03 -0400 (Sat, 25 Oct 2025) EllapsedTime: 530.6 seconds RetCode: 0 Status: OK CheckDir: RNAmodR.AlkAnilineSeq.Rcheck Warnings: 0