Package: RNAmodR.AlkAnilineSeq Version: 1.23.1 Command: /home/biocbuild/bbs-3.22-bioc/R/bin/R CMD build --keep-empty-dirs --no-resave-data --md5 RNAmodR.AlkAnilineSeq StartedAt: 2025-10-24 19:49:37 -0400 (Fri, 24 Oct 2025) EndedAt: 2025-10-24 19:51:48 -0400 (Fri, 24 Oct 2025) EllapsedTime: 131.1 seconds RetCode: 0 Status: OK PackageFile: RNAmodR.AlkAnilineSeq_1.23.1.tar.gz PackageFileSize: 1.05 MiB