Package: RNAmodR.AlkAnilineSeq Version: 1.23.1 Command: /Library/Frameworks/R.framework/Resources/bin/R CMD INSTALL RNAmodR.AlkAnilineSeq StartedAt: 2025-10-24 15:51:46 -0400 (Fri, 24 Oct 2025) EndedAt: 2025-10-24 15:53:06 -0400 (Fri, 24 Oct 2025) EllapsedTime: 80.5 seconds RetCode: 0 Status: OK