Package: RNAmodR.AlkAnilineSeq Version: 1.23.1 Command: /Library/Frameworks/R.framework/Resources/bin/R CMD build --keep-empty-dirs --no-resave-data RNAmodR.AlkAnilineSeq StartedAt: 2025-10-24 18:30:50 -0400 (Fri, 24 Oct 2025) EndedAt: 2025-10-24 18:33:27 -0400 (Fri, 24 Oct 2025) EllapsedTime: 156.7 seconds RetCode: 0 Status: OK PackageFile: RNAmodR.AlkAnilineSeq_1.23.1.tar.gz PackageFileSize: 1.039 MiB