Package: RNAmodR.AlkAnilineSeq Version: 1.23.1 Command: /Library/Frameworks/R.framework/Resources/bin/R CMD build --keep-empty-dirs --no-resave-data RNAmodR.AlkAnilineSeq StartedAt: 2025-10-26 17:45:54 -0400 (Sun, 26 Oct 2025) EndedAt: 2025-10-26 17:46:46 -0400 (Sun, 26 Oct 2025) EllapsedTime: 52.6 seconds RetCode: 1 Status: ERROR PackageFile: None PackageFileSize: NA