Package: RNAdecay Version: 1.29.0 Command: /home/biocbuild/bbs-3.22-bioc/R/bin/R CMD INSTALL RNAdecay StartedAt: 2025-10-24 15:18:40 -0400 (Fri, 24 Oct 2025) EndedAt: 2025-10-24 15:25:59 -0400 (Fri, 24 Oct 2025) EllapsedTime: 439.1 seconds RetCode: 0 Status: OK