Package: RNASeqPower Version: 1.50.0 Command: /Library/Frameworks/R.framework/Resources/bin/R CMD build --keep-empty-dirs --no-resave-data RNASeqPower StartedAt: 2025-11-10 17:33:51 -0500 (Mon, 10 Nov 2025) EndedAt: 2025-11-10 17:33:54 -0500 (Mon, 10 Nov 2025) EllapsedTime: 3.0 seconds RetCode: 0 Status: OK PackageFile: RNASeqPower_1.50.0.tar.gz PackageFileSize: 191.1 KiB