Package: RNASeqPower Version: 1.50.0 Command: rm -rf RNASeqPower.buildbin-libdir && mkdir RNASeqPower.buildbin-libdir && /Users/biocbuild/BBS/utils/build-universal.sh RNASeqPower_1.50.0.tar.gz /Library/Frameworks/R.framework/Resources/bin/R RNASeqPower.buildbin-libdir StartedAt: 2025-11-10 23:34:17 -0500 (Mon, 10 Nov 2025) EndedAt: 2025-11-10 23:34:19 -0500 (Mon, 10 Nov 2025) EllapsedTime: 2.0 seconds RetCode: 0 Status: OK PackageFile: RNASeqPower_1.50.0.tgz PackageFileSize: 198.8 KiB