Package: RNAAgeCalc Version: 1.21.0 Command: /home/biocbuild/bbs-3.22-bioc/R/bin/R CMD build --keep-empty-dirs --no-resave-data --md5 RNAAgeCalc StartedAt: 2025-10-24 19:49:23 -0400 (Fri, 24 Oct 2025) EndedAt: 2025-10-24 19:50:31 -0400 (Fri, 24 Oct 2025) EllapsedTime: 68.1 seconds RetCode: 0 Status: OK PackageFile: RNAAgeCalc_1.21.0.tar.gz PackageFileSize: 3.321 MiB