Package: RNAAgeCalc Version: 1.22.0 Command: /Library/Frameworks/R.framework/Resources/bin/R CMD INSTALL RNAAgeCalc StartedAt: 2025-10-31 15:35:21 -0400 (Fri, 31 Oct 2025) EndedAt: 2025-10-31 15:35:44 -0400 (Fri, 31 Oct 2025) EllapsedTime: 22.5 seconds RetCode: 0 Status: OK