Package: RNAAgeCalc Version: 1.22.0 Command: /Library/Frameworks/R.framework/Resources/bin/R CMD build --keep-empty-dirs --no-resave-data RNAAgeCalc StartedAt: 2025-10-31 17:36:06 -0400 (Fri, 31 Oct 2025) EndedAt: 2025-10-31 17:36:37 -0400 (Fri, 31 Oct 2025) EllapsedTime: 31.3 seconds RetCode: 0 Status: OK PackageFile: RNAAgeCalc_1.22.0.tar.gz PackageFileSize: 3.337 MiB