Package: RMassBank Version: 3.20.0 Command: /home/biocbuild/bbs-3.22-bioc/R/bin/R CMD INSTALL RMassBank StartedAt: 2025-10-31 15:47:34 -0400 (Fri, 31 Oct 2025) EndedAt: 2025-10-31 15:48:33 -0400 (Fri, 31 Oct 2025) EllapsedTime: 58.6 seconds RetCode: 0 Status: OK