Package: RLassoCox Version: 1.18.0 Command: /Library/Frameworks/R.framework/Resources/bin/R CMD INSTALL RLassoCox StartedAt: 2025-11-10 15:03:27 -0500 (Mon, 10 Nov 2025) EndedAt: 2025-11-10 15:03:43 -0500 (Mon, 10 Nov 2025) EllapsedTime: 16.4 seconds RetCode: 0 Status: OK