Package: RLassoCox Version: 1.18.0 Command: /Library/Frameworks/R.framework/Resources/bin/R CMD build --keep-empty-dirs --no-resave-data RLassoCox StartedAt: 2025-11-10 17:32:29 -0500 (Mon, 10 Nov 2025) EndedAt: 2025-11-10 17:32:59 -0500 (Mon, 10 Nov 2025) EllapsedTime: 30.3 seconds RetCode: 0 Status: OK PackageFile: RLassoCox_1.18.0.tar.gz PackageFileSize: 1.967 MiB