Package: RLMM Version: 1.71.0 Command: /home/biocbuild/bbs-3.22-bioc/R/bin/R CMD INSTALL RLMM StartedAt: 2025-10-24 15:13:17 -0400 (Fri, 24 Oct 2025) EndedAt: 2025-10-24 15:13:29 -0400 (Fri, 24 Oct 2025) EllapsedTime: 11.9 seconds RetCode: 0 Status: OK