Package: RLMM Version: 1.71.0 Command: /home/biocbuild/bbs-3.22-bioc/R/bin/R CMD build --keep-empty-dirs --no-resave-data --md5 RLMM StartedAt: 2025-10-24 19:48:22 -0400 (Fri, 24 Oct 2025) EndedAt: 2025-10-24 19:48:28 -0400 (Fri, 24 Oct 2025) EllapsedTime: 6.0 seconds RetCode: 0 Status: OK PackageFile: RLMM_1.71.0.tar.gz PackageFileSize: 420.2 KiB