Package: RIVER Version: 1.33.0 Command: /home/biocbuild/bbs-3.22-bioc/R/bin/R CMD INSTALL RIVER StartedAt: 2025-10-24 15:23:41 -0400 (Fri, 24 Oct 2025) EndedAt: 2025-10-24 15:23:50 -0400 (Fri, 24 Oct 2025) EllapsedTime: 8.9 seconds RetCode: 0 Status: OK