Package: RITAN Version: 1.33.0 Command: /home/biocbuild/bbs-3.22-bioc/R/bin/R CMD INSTALL RITAN StartedAt: 2025-10-24 15:52:29 -0400 (Fri, 24 Oct 2025) EndedAt: 2025-10-24 15:53:10 -0400 (Fri, 24 Oct 2025) EllapsedTime: 41.1 seconds RetCode: 0 Status: OK