Package: RITAN Version: 1.33.0 Command: /home/biocbuild/bbs-3.22-bioc/R/bin/R CMD build --keep-empty-dirs --no-resave-data --md5 RITAN StartedAt: 2025-10-24 19:47:55 -0400 (Fri, 24 Oct 2025) EndedAt: 2025-10-24 19:49:37 -0400 (Fri, 24 Oct 2025) EllapsedTime: 102.1 seconds RetCode: 0 Status: OK PackageFile: RITAN_1.33.0.tar.gz PackageFileSize: 807.7 KiB