Package: RGraph2js Version: 1.38.0 Command: /home/biocbuild/R/R/bin/R CMD build --keep-empty-dirs --no-resave-data RGraph2js StartedAt: 2025-11-14 04:35:42 -0000 (Fri, 14 Nov 2025) EndedAt: 2025-11-14 04:35:54 -0000 (Fri, 14 Nov 2025) EllapsedTime: 12.0 seconds RetCode: 0 Status: OK PackageFile: RGraph2js_1.38.0.tar.gz PackageFileSize: 2.334 MiB