Package: RGraph2js Version: 1.38.0 Command: /home/biocbuild/bbs-3.22-bioc/R/bin/R CMD build --keep-empty-dirs --no-resave-data --md5 RGraph2js StartedAt: 2025-11-16 19:45:52 -0500 (Sun, 16 Nov 2025) EndedAt: 2025-11-16 19:46:02 -0500 (Sun, 16 Nov 2025) EllapsedTime: 10.0 seconds RetCode: 0 Status: OK PackageFile: RGraph2js_1.38.0.tar.gz PackageFileSize: 2.347 MiB