Package: RGraph2js Version: 1.38.0 Command: /Library/Frameworks/R.framework/Resources/bin/R CMD INSTALL RGraph2js StartedAt: 2025-11-10 15:06:40 -0500 (Mon, 10 Nov 2025) EndedAt: 2025-11-10 15:06:42 -0500 (Mon, 10 Nov 2025) EllapsedTime: 1.2 seconds RetCode: 0 Status: OK