Package: RGraph2js Version: 1.38.0 Command: /Library/Frameworks/R.framework/Resources/bin/R CMD check --install=check:RGraph2js.install-out.txt --library=/Library/Frameworks/R.framework/Resources/library --no-vignettes --timings RGraph2js_1.38.0.tar.gz StartedAt: 2025-11-10 21:56:54 -0500 (Mon, 10 Nov 2025) EndedAt: 2025-11-10 21:57:09 -0500 (Mon, 10 Nov 2025) EllapsedTime: 14.2 seconds RetCode: 0 Status: OK CheckDir: RGraph2js.Rcheck Warnings: 0