Package: RFLOMICS Version: 1.2.0 Command: /home/biocbuild/bbs-3.22-bioc/R/bin/R CMD check --install=check:RFLOMICS.install-out.txt --library=/home/biocbuild/bbs-3.22-bioc/R/site-library --timings RFLOMICS_1.2.0.tar.gz StartedAt: 2025-11-18 07:43:39 -0500 (Tue, 18 Nov 2025) EndedAt: 2025-11-18 07:56:18 -0500 (Tue, 18 Nov 2025) EllapsedTime: 758.9 seconds RetCode: 0 Status: OK CheckDir: RFLOMICS.Rcheck Warnings: 0