Package: RFLOMICS Version: 1.2.0 Command: /Library/Frameworks/R.framework/Resources/bin/R CMD INSTALL RFLOMICS StartedAt: 2025-10-31 15:50:12 -0400 (Fri, 31 Oct 2025) EndedAt: 2025-10-31 15:51:24 -0400 (Fri, 31 Oct 2025) EllapsedTime: 72.7 seconds RetCode: 0 Status: OK