Package: RFLOMICS Version: 1.2.0 Command: /Library/Frameworks/R.framework/Resources/bin/R CMD build --keep-empty-dirs --no-resave-data RFLOMICS StartedAt: 2025-10-31 18:30:11 -0400 (Fri, 31 Oct 2025) EndedAt: 2025-10-31 18:32:48 -0400 (Fri, 31 Oct 2025) EllapsedTime: 157.3 seconds RetCode: 0 Status: OK PackageFile: RFLOMICS_1.2.0.tar.gz PackageFileSize: 5.08 MiB