Package: RFLOMICS Version: 1.2.0 Command: rm -rf RFLOMICS.buildbin-libdir && mkdir RFLOMICS.buildbin-libdir && /Users/biocbuild/BBS/utils/build-universal.sh RFLOMICS_1.2.0.tar.gz /Library/Frameworks/R.framework/Resources/bin/R RFLOMICS.buildbin-libdir StartedAt: 2025-11-01 01:52:46 -0400 (Sat, 01 Nov 2025) EndedAt: 2025-11-01 01:54:02 -0400 (Sat, 01 Nov 2025) EllapsedTime: 76.2 seconds RetCode: 0 Status: OK PackageFile: RFLOMICS_1.2.0.tgz PackageFileSize: 4.924 MiB