Package: RFLOMICS Version: 1.1.4 Command: /Library/Frameworks/R.framework/Resources/bin/R CMD INSTALL RFLOMICS StartedAt: 2025-10-26 15:26:13 -0400 (Sun, 26 Oct 2025) EndedAt: 2025-10-26 15:26:34 -0400 (Sun, 26 Oct 2025) EllapsedTime: 20.6 seconds RetCode: 0 Status: OK