Package: RFLOMICS Version: 1.1.4 Command: /Library/Frameworks/R.framework/Resources/bin/R CMD build --keep-empty-dirs --no-resave-data RFLOMICS StartedAt: 2025-10-27 17:29:12 -0400 (Mon, 27 Oct 2025) EndedAt: 2025-10-27 17:30:11 -0400 (Mon, 27 Oct 2025) EllapsedTime: 58.7 seconds RetCode: 0 Status: OK PackageFile: RFLOMICS_1.1.4.tar.gz PackageFileSize: 5.09 MiB