Package: RFLOMICS Version: 1.1.4 Command: rm -rf RFLOMICS.buildbin-libdir && mkdir RFLOMICS.buildbin-libdir && /Users/biocbuild/BBS/utils/build-universal.sh RFLOMICS_1.1.4.tar.gz /Library/Frameworks/R.framework/Resources/bin/R RFLOMICS.buildbin-libdir StartedAt: 2025-10-26 22:45:38 -0400 (Sun, 26 Oct 2025) EndedAt: 2025-10-26 22:46:01 -0400 (Sun, 26 Oct 2025) EllapsedTime: 22.4 seconds RetCode: 0 Status: OK PackageFile: RFLOMICS_1.1.4.tgz PackageFileSize: 4.938 MiB