Package: RESOLVE Version: 1.11.2 Command: /home/biocbuild/bbs-3.22-bioc/R/bin/R CMD INSTALL RESOLVE StartedAt: 2025-10-24 15:55:53 -0400 (Fri, 24 Oct 2025) EndedAt: 2025-10-24 15:56:31 -0400 (Fri, 24 Oct 2025) EllapsedTime: 38.8 seconds RetCode: 0 Status: OK