Package: RESOLVE Version: 1.11.2 Command: /home/biocbuild/bbs-3.22-bioc/R/bin/R CMD build --keep-empty-dirs --no-resave-data --md5 RESOLVE StartedAt: 2025-10-24 19:44:40 -0400 (Fri, 24 Oct 2025) EndedAt: 2025-10-24 19:45:40 -0400 (Fri, 24 Oct 2025) EllapsedTime: 60.1 seconds RetCode: 0 Status: OK PackageFile: RESOLVE_1.11.2.tar.gz PackageFileSize: 858.5 KiB