Package: RESOLVE Version: 1.11.2 Command: /Library/Frameworks/R.framework/Resources/bin/R CMD build --keep-empty-dirs --no-resave-data RESOLVE StartedAt: 2025-10-24 17:30:20 -0400 (Fri, 24 Oct 2025) EndedAt: 2025-10-24 17:30:45 -0400 (Fri, 24 Oct 2025) EllapsedTime: 25.3 seconds RetCode: 0 Status: OK PackageFile: RESOLVE_1.11.2.tar.gz PackageFileSize: 853.8 KiB