Package: RESOLVE Version: 1.11.2 Command: rm -rf RESOLVE.buildbin-libdir && mkdir RESOLVE.buildbin-libdir && /Users/biocbuild/BBS/utils/build-universal.sh RESOLVE_1.11.2.tar.gz /Library/Frameworks/R.framework/Resources/bin/R RESOLVE.buildbin-libdir StartedAt: 2025-10-24 23:16:11 -0400 (Fri, 24 Oct 2025) EndedAt: 2025-10-24 23:16:28 -0400 (Fri, 24 Oct 2025) EllapsedTime: 17.3 seconds RetCode: 0 Status: OK PackageFile: RESOLVE_1.11.2.tgz PackageFileSize: 1.001 MiB