Package: REMP Version: 1.33.1 Command: /home/biocbuild/bbs-3.22-bioc/R/bin/R CMD INSTALL REMP StartedAt: 2025-10-24 15:53:34 -0400 (Fri, 24 Oct 2025) EndedAt: 2025-10-24 15:54:32 -0400 (Fri, 24 Oct 2025) EllapsedTime: 57.3 seconds RetCode: 0 Status: OK