Package: REMP Version: 1.33.1 Command: /home/biocbuild/bbs-3.22-bioc/R/bin/R CMD build --keep-empty-dirs --no-resave-data --md5 REMP StartedAt: 2025-10-24 19:44:03 -0400 (Fri, 24 Oct 2025) EndedAt: 2025-10-24 19:45:52 -0400 (Fri, 24 Oct 2025) EllapsedTime: 109.1 seconds RetCode: 0 Status: OK PackageFile: REMP_1.33.1.tar.gz PackageFileSize: 192.1 KiB