Package: REDseq Version: 1.55.0 Command: /home/biocbuild/bbs-3.22-bioc/R/bin/R CMD INSTALL REDseq StartedAt: 2025-10-27 15:53:37 -0400 (Mon, 27 Oct 2025) EndedAt: 2025-10-27 15:54:25 -0400 (Mon, 27 Oct 2025) EllapsedTime: 47.3 seconds RetCode: 0 Status: OK